BEGIN:VCALENDAR
VERSION:2.0
PRODID:-//Site de la communauté de communes de l&#039;Aillantais en Bourgogne - ECPv6.15.11//NONSGML v1.0//EN
CALSCALE:GREGORIAN
METHOD:PUBLISH
X-WR-CALNAME:Site de la communauté de communes de l&#039;Aillantais en Bourgogne
X-ORIGINAL-URL:https://www.ccaillantais.fr
X-WR-CALDESC:Évènements pour Site de la communauté de communes de l&#039;Aillantais en Bourgogne
REFRESH-INTERVAL;VALUE=DURATION:PT1H
X-Robots-Tag:noindex
X-PUBLISHED-TTL:PT1H
BEGIN:VTIMEZONE
TZID:Europe/Paris
BEGIN:DAYLIGHT
TZOFFSETFROM:+0100
TZOFFSETTO:+0200
TZNAME:CEST
DTSTART:20250330T010000
END:DAYLIGHT
BEGIN:STANDARD
TZOFFSETFROM:+0200
TZOFFSETTO:+0100
TZNAME:CET
DTSTART:20251026T010000
END:STANDARD
BEGIN:DAYLIGHT
TZOFFSETFROM:+0100
TZOFFSETTO:+0200
TZNAME:CEST
DTSTART:20260329T010000
END:DAYLIGHT
BEGIN:STANDARD
TZOFFSETFROM:+0200
TZOFFSETTO:+0100
TZNAME:CET
DTSTART:20261025T010000
END:STANDARD
BEGIN:DAYLIGHT
TZOFFSETFROM:+0100
TZOFFSETTO:+0200
TZNAME:CEST
DTSTART:20270328T010000
END:DAYLIGHT
BEGIN:STANDARD
TZOFFSETFROM:+0200
TZOFFSETTO:+0100
TZNAME:CET
DTSTART:20271031T010000
END:STANDARD
END:VTIMEZONE
BEGIN:VEVENT
DTSTART;TZID=Europe/Paris:20260119T183000
DTEND;TZID=Europe/Paris:20260119T203000
DTSTAMP:20260422T155316
CREATED:20251215T143920Z
LAST-MODIFIED:20251215T143920Z
UID:12549-1768847400-1768854600@www.ccaillantais.fr
SUMMARY:VŒUX DE LA CCAB
DESCRIPTION:LUNDI 19 JANVIER 2026 \nà 18h30 à la Salle Multi-activités d’Aillant-sur-Tholon – MONTHOLON
URL:https://www.ccaillantais.fr/evenement/voeux-de-la-ccab/
LOCATION:Salle multi-activités d’Aillant-sur-Tholon
CATEGORIES:CÉRÉMONIE
ATTACH;FMTTYPE=image/jpeg:https://www.ccaillantais.fr/wp-content/uploads/2025/12/PLANIMETRE_voeux2026_web_page-00011.jpg
ORGANIZER;CN="CCAB":MAILTO:contact@ccaillantais.fr
END:VEVENT
BEGIN:VEVENT
DTSTART;TZID=Europe/Paris:20260127T180000
DTEND;TZID=Europe/Paris:20260127T200000
DTSTAMP:20260422T155316
CREATED:20260107T091756Z
LAST-MODIFIED:20260120T152358Z
UID:12670-1769536800-1769544000@www.ccaillantais.fr
SUMMARY:RÉUNION PUBLIQUE
DESCRIPTION:Nouvelle offre de mutuelle santé \n \n\n\nUne nouvelle offre de mutuelle santé avantageuse\, accessible à tous\, sera prochainement proposée aux habitants de l’Aillantais\, du Chablisien et de l’Auxerrois.\n\n\n Afin de vous présenter cette offre en détail et de répondre à vos questions\, des réunions publiques d’information sont organisées dans les trois territoires (infos pratiques dans l’affiche ci-dessous).\n \n\n\nRÉUNIONS PUBLIQUES DANS L’AILLANTAIS :\nMARDI 27 JANVIER à 18h – salle du Conseil\, mairie de Guerchy – VALRAVILLON\nMERCREDI 28 JANVIER à 18h – salle du Conseil\, mairie d’Aillant-sur-Tholon – MONTHOLON\,\n \n\n\nCette offre s’inscrit dans le cadre du Contrat Local de Santé porté par les territoires de l’Aillantais\, le Chablisien et l’Auxerrois.\n 
URL:https://www.ccaillantais.fr/evenement/reunions-publiques/
LOCATION:GUERCHY (VALRAVILLON)
CATEGORIES:RÉUNION
ATTACH;FMTTYPE=image/jpeg:https://www.ccaillantais.fr/wp-content/uploads/2026/01/affiches-reunion-Aillantais_page-0001-scaled.jpg
ORGANIZER;CN="CCAB":MAILTO:contact@ccaillantais.fr
END:VEVENT
BEGIN:VEVENT
DTSTART;TZID=Europe/Paris:20260128T180000
DTEND;TZID=Europe/Paris:20260128T200000
DTSTAMP:20260422T155316
CREATED:20260120T152308Z
LAST-MODIFIED:20260120T152308Z
UID:12754-1769623200-1769630400@www.ccaillantais.fr
SUMMARY:REUNION PUBLIQUE
DESCRIPTION:Nouvelle offre de mutuelle santé \n \n\n\nUne nouvelle offre de mutuelle santé avantageuse\, accessible à tous\, sera prochainement proposée aux habitants de l’Aillantais\, du Chablisien et de l’Auxerrois.\n\n\n Afin de vous présenter cette offre en détail et de répondre à vos questions\, des réunions publiques d’information sont organisées dans les trois territoires (infos pratiques dans l’affiche ci-dessous).\n \n\n\nRÉUNIONS PUBLIQUES DANS L’AILLANTAIS :\nMARDI 27 JANVIER à 18h – salle du Conseil\, mairie de Guerchy – VALRAVILLON\nMERCREDI 28 JANVIER à 18h – salle du Conseil\, mairie d’Aillant-sur-Tholon – MONTHOLON\,\n \n\n\nCette offre s’inscrit dans le cadre du Contrat Local de Santé porté par les territoires de l’Aillantais\, le Chablisien et l’Auxerrois.\n 
URL:https://www.ccaillantais.fr/evenement/reunion-publique-6/
LOCATION:89110 Aillant-sur-Tholon (MONTHOLON)\, 16 avenue Charles de Gaule - Aillant-sur-Tholon\, MONTHOLON\, 89110\, France
CATEGORIES:RÉUNION
ATTACH;FMTTYPE=image/jpeg:https://www.ccaillantais.fr/wp-content/uploads/2026/01/affiches-reunion-Aillantais_page-0001-scaled.jpg
END:VEVENT
END:VCALENDAR