BEGIN:VCALENDAR
VERSION:2.0
PRODID:-//Site de la communauté de communes de l&#039;Aillantais en Bourgogne - ECPv6.15.11//NONSGML v1.0//EN
CALSCALE:GREGORIAN
METHOD:PUBLISH
X-ORIGINAL-URL:https://www.ccaillantais.fr
X-WR-CALDESC:Évènements pour Site de la communauté de communes de l&#039;Aillantais en Bourgogne
REFRESH-INTERVAL;VALUE=DURATION:PT1H
X-Robots-Tag:noindex
X-PUBLISHED-TTL:PT1H
BEGIN:VTIMEZONE
TZID:Europe/Paris
BEGIN:DAYLIGHT
TZOFFSETFROM:+0100
TZOFFSETTO:+0200
TZNAME:CEST
DTSTART:20240331T010000
END:DAYLIGHT
BEGIN:STANDARD
TZOFFSETFROM:+0200
TZOFFSETTO:+0100
TZNAME:CET
DTSTART:20241027T010000
END:STANDARD
BEGIN:DAYLIGHT
TZOFFSETFROM:+0100
TZOFFSETTO:+0200
TZNAME:CEST
DTSTART:20250330T010000
END:DAYLIGHT
BEGIN:STANDARD
TZOFFSETFROM:+0200
TZOFFSETTO:+0100
TZNAME:CET
DTSTART:20251026T010000
END:STANDARD
BEGIN:DAYLIGHT
TZOFFSETFROM:+0100
TZOFFSETTO:+0200
TZNAME:CEST
DTSTART:20260329T010000
END:DAYLIGHT
BEGIN:STANDARD
TZOFFSETFROM:+0200
TZOFFSETTO:+0100
TZNAME:CET
DTSTART:20261025T010000
END:STANDARD
END:VTIMEZONE
BEGIN:VEVENT
DTSTART;TZID=Europe/Paris:20250525T110000
DTEND;TZID=Europe/Paris:20250525T180000
DTSTAMP:20260423T060844
CREATED:20250515T074047Z
LAST-MODIFIED:20250515T074047Z
UID:11541-1748170800-1748196000@www.ccaillantais.fr
SUMMARY:FESTIVAL FLEURS DE VIGNE
DESCRIPTION:Les producteurs locaux de l’Aillantais seront présents sur les quais de l’Yonne à Auxerre le dimanche 25 mai de 11h à 18h pour faire déguster et vous proposer leurs produits du territoire\, dans une ambiance conviviale et chaleureuse. \nVenez nombreux ! \n 
URL:https://www.ccaillantais.fr/evenement/festival-fleurs-de-vigne/
ATTACH;FMTTYPE=image/jpeg:https://www.ccaillantais.fr/wp-content/uploads/2025/05/Fleurs-de-vigne-2025-RS-1080x1080-1.jpg
END:VEVENT
END:VCALENDAR