BEGIN:VCALENDAR
VERSION:2.0
PRODID:-//Site de la communauté de communes de l&#039;Aillantais en Bourgogne - ECPv6.15.11//NONSGML v1.0//EN
CALSCALE:GREGORIAN
METHOD:PUBLISH
X-ORIGINAL-URL:https://www.ccaillantais.fr
X-WR-CALDESC:Évènements pour Site de la communauté de communes de l&#039;Aillantais en Bourgogne
REFRESH-INTERVAL;VALUE=DURATION:PT1H
X-Robots-Tag:noindex
X-PUBLISHED-TTL:PT1H
BEGIN:VTIMEZONE
TZID:Europe/Paris
BEGIN:DAYLIGHT
TZOFFSETFROM:+0100
TZOFFSETTO:+0200
TZNAME:CEST
DTSTART:20180325T010000
END:DAYLIGHT
BEGIN:STANDARD
TZOFFSETFROM:+0200
TZOFFSETTO:+0100
TZNAME:CET
DTSTART:20181028T010000
END:STANDARD
BEGIN:DAYLIGHT
TZOFFSETFROM:+0100
TZOFFSETTO:+0200
TZNAME:CEST
DTSTART:20190331T010000
END:DAYLIGHT
BEGIN:STANDARD
TZOFFSETFROM:+0200
TZOFFSETTO:+0100
TZNAME:CET
DTSTART:20191027T010000
END:STANDARD
BEGIN:DAYLIGHT
TZOFFSETFROM:+0100
TZOFFSETTO:+0200
TZNAME:CEST
DTSTART:20200329T010000
END:DAYLIGHT
BEGIN:STANDARD
TZOFFSETFROM:+0200
TZOFFSETTO:+0100
TZNAME:CET
DTSTART:20201025T010000
END:STANDARD
BEGIN:DAYLIGHT
TZOFFSETFROM:+0100
TZOFFSETTO:+0200
TZNAME:CEST
DTSTART:20210328T010000
END:DAYLIGHT
BEGIN:STANDARD
TZOFFSETFROM:+0200
TZOFFSETTO:+0100
TZNAME:CET
DTSTART:20211031T010000
END:STANDARD
BEGIN:DAYLIGHT
TZOFFSETFROM:+0100
TZOFFSETTO:+0200
TZNAME:CEST
DTSTART:20220327T010000
END:DAYLIGHT
BEGIN:STANDARD
TZOFFSETFROM:+0200
TZOFFSETTO:+0100
TZNAME:CET
DTSTART:20221030T010000
END:STANDARD
BEGIN:DAYLIGHT
TZOFFSETFROM:+0100
TZOFFSETTO:+0200
TZNAME:CEST
DTSTART:20230326T010000
END:DAYLIGHT
BEGIN:STANDARD
TZOFFSETFROM:+0200
TZOFFSETTO:+0100
TZNAME:CET
DTSTART:20231029T010000
END:STANDARD
BEGIN:DAYLIGHT
TZOFFSETFROM:+0100
TZOFFSETTO:+0200
TZNAME:CEST
DTSTART:20240331T010000
END:DAYLIGHT
BEGIN:STANDARD
TZOFFSETFROM:+0200
TZOFFSETTO:+0100
TZNAME:CET
DTSTART:20241027T010000
END:STANDARD
BEGIN:DAYLIGHT
TZOFFSETFROM:+0100
TZOFFSETTO:+0200
TZNAME:CEST
DTSTART:20250330T010000
END:DAYLIGHT
BEGIN:STANDARD
TZOFFSETFROM:+0200
TZOFFSETTO:+0100
TZNAME:CET
DTSTART:20251026T010000
END:STANDARD
BEGIN:DAYLIGHT
TZOFFSETFROM:+0100
TZOFFSETTO:+0200
TZNAME:CEST
DTSTART:20260329T010000
END:DAYLIGHT
BEGIN:STANDARD
TZOFFSETFROM:+0200
TZOFFSETTO:+0100
TZNAME:CET
DTSTART:20261025T010000
END:STANDARD
BEGIN:DAYLIGHT
TZOFFSETFROM:+0100
TZOFFSETTO:+0200
TZNAME:CEST
DTSTART:20270328T010000
END:DAYLIGHT
BEGIN:STANDARD
TZOFFSETFROM:+0200
TZOFFSETTO:+0100
TZNAME:CET
DTSTART:20271031T010000
END:STANDARD
END:VTIMEZONE
BEGIN:VEVENT
DTSTART;TZID=Europe/Paris:20260408T100000
DTEND;TZID=Europe/Paris:20260408T113000
DTSTAMP:20260422T151557
CREATED:20260316T082448Z
LAST-MODIFIED:20260316T082448Z
UID:13071-1775642400-1775647800@www.ccaillantais.fr
SUMMARY:Atelier Parents / Enfants
DESCRIPTION:Mercredi 8 avril de 10h à 11h30 \nau LAEP à Senan – Rue du Vannage \nLA MOTRICITÉ \ninscription au 06 81 87 92 53 
URL:https://www.ccaillantais.fr/evenement/atelier-parents-enfants-2/
LOCATION:SENAN
CATEGORIES:Jeunesse
ATTACH;FMTTYPE=image/jpeg:https://www.ccaillantais.fr/wp-content/uploads/2026/03/MOTRICITE-080426.jpg
ORGANIZER;CN="CCAB":MAILTO:contact@ccaillantais.fr
END:VEVENT
BEGIN:VEVENT
DTSTART;TZID=Europe/Paris:20260128T180000
DTEND;TZID=Europe/Paris:20260128T200000
DTSTAMP:20260422T151557
CREATED:20260120T152308Z
LAST-MODIFIED:20260120T152308Z
UID:12754-1769623200-1769630400@www.ccaillantais.fr
SUMMARY:REUNION PUBLIQUE
DESCRIPTION:Nouvelle offre de mutuelle santé \n \n\n\nUne nouvelle offre de mutuelle santé avantageuse\, accessible à tous\, sera prochainement proposée aux habitants de l’Aillantais\, du Chablisien et de l’Auxerrois.\n\n\n Afin de vous présenter cette offre en détail et de répondre à vos questions\, des réunions publiques d’information sont organisées dans les trois territoires (infos pratiques dans l’affiche ci-dessous).\n \n\n\nRÉUNIONS PUBLIQUES DANS L’AILLANTAIS :\nMARDI 27 JANVIER à 18h – salle du Conseil\, mairie de Guerchy – VALRAVILLON\nMERCREDI 28 JANVIER à 18h – salle du Conseil\, mairie d’Aillant-sur-Tholon – MONTHOLON\,\n \n\n\nCette offre s’inscrit dans le cadre du Contrat Local de Santé porté par les territoires de l’Aillantais\, le Chablisien et l’Auxerrois.\n 
URL:https://www.ccaillantais.fr/evenement/reunion-publique-6/
LOCATION:89110 Aillant-sur-Tholon (MONTHOLON)\, 16 avenue Charles de Gaule - Aillant-sur-Tholon\, MONTHOLON\, 89110\, France
CATEGORIES:RÉUNION
ATTACH;FMTTYPE=image/jpeg:https://www.ccaillantais.fr/wp-content/uploads/2026/01/affiches-reunion-Aillantais_page-0001-scaled.jpg
END:VEVENT
BEGIN:VEVENT
DTSTART;TZID=Europe/Paris:20260127T180000
DTEND;TZID=Europe/Paris:20260127T200000
DTSTAMP:20260422T151557
CREATED:20260107T091756Z
LAST-MODIFIED:20260120T152358Z
UID:12670-1769536800-1769544000@www.ccaillantais.fr
SUMMARY:RÉUNION PUBLIQUE
DESCRIPTION:Nouvelle offre de mutuelle santé \n \n\n\nUne nouvelle offre de mutuelle santé avantageuse\, accessible à tous\, sera prochainement proposée aux habitants de l’Aillantais\, du Chablisien et de l’Auxerrois.\n\n\n Afin de vous présenter cette offre en détail et de répondre à vos questions\, des réunions publiques d’information sont organisées dans les trois territoires (infos pratiques dans l’affiche ci-dessous).\n \n\n\nRÉUNIONS PUBLIQUES DANS L’AILLANTAIS :\nMARDI 27 JANVIER à 18h – salle du Conseil\, mairie de Guerchy – VALRAVILLON\nMERCREDI 28 JANVIER à 18h – salle du Conseil\, mairie d’Aillant-sur-Tholon – MONTHOLON\,\n \n\n\nCette offre s’inscrit dans le cadre du Contrat Local de Santé porté par les territoires de l’Aillantais\, le Chablisien et l’Auxerrois.\n 
URL:https://www.ccaillantais.fr/evenement/reunions-publiques/
LOCATION:GUERCHY (VALRAVILLON)
CATEGORIES:RÉUNION
ATTACH;FMTTYPE=image/jpeg:https://www.ccaillantais.fr/wp-content/uploads/2026/01/affiches-reunion-Aillantais_page-0001-scaled.jpg
ORGANIZER;CN="CCAB":MAILTO:contact@ccaillantais.fr
END:VEVENT
BEGIN:VEVENT
DTSTART;TZID=Europe/Paris:20260119T183000
DTEND;TZID=Europe/Paris:20260119T203000
DTSTAMP:20260422T151557
CREATED:20251215T143920Z
LAST-MODIFIED:20251215T143920Z
UID:12549-1768847400-1768854600@www.ccaillantais.fr
SUMMARY:VŒUX DE LA CCAB
DESCRIPTION:LUNDI 19 JANVIER 2026 \nà 18h30 à la Salle Multi-activités d’Aillant-sur-Tholon – MONTHOLON
URL:https://www.ccaillantais.fr/evenement/voeux-de-la-ccab/
LOCATION:Salle multi-activités d’Aillant-sur-Tholon
CATEGORIES:CÉRÉMONIE
ATTACH;FMTTYPE=image/jpeg:https://www.ccaillantais.fr/wp-content/uploads/2025/12/PLANIMETRE_voeux2026_web_page-00011.jpg
ORGANIZER;CN="CCAB":MAILTO:contact@ccaillantais.fr
END:VEVENT
BEGIN:VEVENT
DTSTART;TZID=Europe/Paris:20251210T100000
DTEND;TZID=Europe/Paris:20251210T113000
DTSTAMP:20260422T151557
CREATED:20251124T085823Z
LAST-MODIFIED:20251124T085823Z
UID:12507-1765360800-1765366200@www.ccaillantais.fr
SUMMARY:ATELIER PARENTS / ENFANTS
DESCRIPTION:Mercredi 10 décembre 2025 \n« découvre tes 5 sens » : éveil sensoriel \nau LAEP à Senan \npour les parents et leurs enfants de 3 à 6 ans \nde 10h à 11h30 \ninscription au 06 81 87 92 53
URL:https://www.ccaillantais.fr/evenement/atelier-parents-enfants/
LOCATION:LAEP SENAN\, Rue du Vannage\, SENAN\, 89710
ATTACH;FMTTYPE=image/jpeg:https://www.ccaillantais.fr/wp-content/uploads/2025/11/affiche-1012-eveil-scaled.jpeg
END:VEVENT
BEGIN:VEVENT
DTSTART;VALUE=DATE:20251115
DTEND;VALUE=DATE:20251116
DTSTAMP:20260422T151557
CREATED:20250919T141102Z
LAST-MODIFIED:20251007T094122Z
UID:12210-1763164800-1763251199@www.ccaillantais.fr
SUMMARY:FORUM de la petite enfance
DESCRIPTION:SAMEDI 18 OCTOBRE \nsalle multi-activités \n9h30-13h et 14h-17h
URL:https://www.ccaillantais.fr/evenement/forum-de-la-petite-enfance/
ATTACH;FMTTYPE=image/jpeg:https://www.ccaillantais.fr/wp-content/uploads/2025/09/forum-petite-enfance-2025-scaled.jpg
END:VEVENT
BEGIN:VEVENT
DTSTART;TZID=Europe/Paris:20251018T140000
DTEND;TZID=Europe/Paris:20251018T170000
DTSTAMP:20260422T151557
CREATED:20250924T135014Z
LAST-MODIFIED:20250924T135014Z
UID:12225-1760796000-1760806800@www.ccaillantais.fr
SUMMARY:ATELIERS PREVENTION - OCTOBRE ROSE
DESCRIPTION:𝐒𝐀𝐌𝐄𝐃𝐈 𝟏𝟖 𝐎𝐂𝐓𝐎𝐁𝐑𝐄\, 𝐞𝐧𝐭𝐫𝐞 𝟏𝟒𝐡 𝐞𝐭 𝟏𝟖𝐡 𝐚̀ 𝐥𝐚 𝐌𝐚𝐢𝐬𝐨𝐧 𝐌𝐞́𝐝𝐢𝐜𝐚𝐥𝐞\,\n\n\n \n\n\nLa CCAB\, la Ligue contre le cancer et les partenaires du CLS\, organisent 4 ateliers d’une heure chacun pour favoriser le dépistage du cancer du sein.\n\n\n \n\n\nParce que chaque femme doit être informée\, renseignée et doit essayer\,\n\n\ndes professionnels de la santé vous présenteront :\n \n \n\n\n– l’autopalpation\n\n\n– les facteurs de risques\n\n\n– des démonstrations sur buste\n\n\n– des conseils diététiques\n\n\n– répondront à vos questions.\n\n\n \n\n\nINSCRIPTIONS OBLIGATOIRES au 07 72 50 84 13 ou à madeline.grelardon@auxerre.frr\n\n\n \n\n\nPLACES LIMITÉES.\n\n\n \n\n\nN’attendez plus 🩷\n\n\n 
URL:https://www.ccaillantais.fr/evenement/ateliers-prevention-octobre-rose/
LOCATION:89110 Aillant-sur-Tholon (MONTHOLON)\, 16 avenue Charles de Gaule - Aillant-sur-Tholon\, MONTHOLON\, 89110\, France
ATTACH;FMTTYPE=image/jpeg:https://www.ccaillantais.fr/wp-content/uploads/2025/09/Affiche-Octobre-Rose-ateliers-autopalpation-scaled.jpeg
END:VEVENT
BEGIN:VEVENT
DTSTART;TZID=Europe/Paris:20250916T130000
DTEND;TZID=Europe/Paris:20250917T120000
DTSTAMP:20260422T151557
CREATED:20250715T124039Z
LAST-MODIFIED:20250715T124039Z
UID:11915-1758027600-1758110400@www.ccaillantais.fr
SUMMARY:BUS DU CŒUR DES FEMMES
DESCRIPTION:16 ET 17 SEPTEMBRE 2025 \nLa CCAB met en place 2 déplacements en minibus pour les femmes éloignées du parcours de soins \npour des dépistages cardio-vasculaires et/ou gynécologiques gratuits. \ndépart place de l’église à Aillant\, sur inscription. \n  \nrdv au 03 86 63 38 58 \nplaces limitées.
URL:https://www.ccaillantais.fr/evenement/bus-du-coeur-des-femmes/
LOCATION:Auxerre
ATTACH;FMTTYPE=image/jpeg:https://www.ccaillantais.fr/wp-content/uploads/2025/07/Flyer-BUS-DU-COEUR_partenaires_page-0001-1-scaled.jpg
ORGANIZER;CN="CCAB":MAILTO:contact@ccaillantais.fr
END:VEVENT
BEGIN:VEVENT
DTSTART;VALUE=DATE:20250916
DTEND;VALUE=DATE:20251009
DTSTAMP:20260422T151557
CREATED:20250919T140954Z
LAST-MODIFIED:20250919T140954Z
UID:12208-1757980800-1759967999@www.ccaillantais.fr
SUMMARY:Défi mobilité
DESCRIPTION:du 16/09 au 08/10 \ncovoiturez et tentez de gagner ! \n 
URL:https://www.ccaillantais.fr/evenement/defi-mobilite/
ATTACH;FMTTYPE=image/jpeg:https://www.ccaillantais.fr/wp-content/uploads/2024/11/DEFI_JY-VAIS-AUTREMENT-092025_page-0001-scaled.jpg
END:VEVENT
BEGIN:VEVENT
DTSTART;TZID=Europe/Paris:20250709T183000
DTEND;TZID=Europe/Paris:20250709T193000
DTSTAMP:20260422T151557
CREATED:20250704T093956Z
LAST-MODIFIED:20250704T093956Z
UID:11821-1752085800-1752089400@www.ccaillantais.fr
SUMMARY:RÉUNION PUBLIQUE MUTUELLE INTERCO
DESCRIPTION:Mutuelle\, remboursements santé\, prise en charge… \nPourquoi une mutuelle intercommunale à l’échelle du Contrat Local de Santé ? \nUn intervenant répondra aux questions que vous vous posez à ce sujet\, \nà Aillant-sur-Tholon / MONTHOLON le mardi 8 juillet\, salle multi activités à 18h30 \nà Guerchy / VALRAVILLON le mercredi 9 juillet\, salle de la mairie à 18h30
URL:https://www.ccaillantais.fr/evenement/reunion-publique-mutuelle-interco-2/
LOCATION:GUERCHY (VALRAVILLON)
ATTACH;FMTTYPE=image/jpeg:https://www.ccaillantais.fr/wp-content/uploads/2025/06/maquette_affiche_reunion-publique_mutuelle_page-0001.jpg
END:VEVENT
BEGIN:VEVENT
DTSTART;TZID=Europe/Paris:20250708T183000
DTEND;TZID=Europe/Paris:20250708T193000
DTSTAMP:20260422T151557
CREATED:20250704T093837Z
LAST-MODIFIED:20250704T093837Z
UID:11819-1751999400-1752003000@www.ccaillantais.fr
SUMMARY:RÉUNION PUBLIQUE MUTUELLE INTERCO
DESCRIPTION:Mutuelle\, remboursements santé\, prise en charge… \nPourquoi une mutuelle intercommunale à l’échelle du Contrat Local de Santé ? \nUn intervenant répondra aux questions que vous vous posez à ce sujet\, \nà Aillant-sur-Tholon / MONTHOLON le mardi 8 juillet\, salle multi activités à 18h30 \nà Guerchy / VALRAVILLON le mercredi 9 juillet\, salle de la mairie à 18h30
URL:https://www.ccaillantais.fr/evenement/reunion-publique-mutuelle-interco/
LOCATION:89110 Aillant-sur-Tholon (MONTHOLON)\, 16 avenue Charles de Gaule - Aillant-sur-Tholon\, MONTHOLON\, 89110\, France
ATTACH;FMTTYPE=image/jpeg:https://www.ccaillantais.fr/wp-content/uploads/2025/06/maquette_affiche_reunion-publique_mutuelle_page-0001.jpg
END:VEVENT
BEGIN:VEVENT
DTSTART;TZID=Europe/Paris:20250630T190000
DTEND;TZID=Europe/Paris:20250630T203000
DTSTAMP:20260422T151557
CREATED:20250506T092201Z
LAST-MODIFIED:20250506T092409Z
UID:11495-1751310000-1751315400@www.ccaillantais.fr
SUMMARY:INAUGURATION ANNEXE MAISON MÉDICALE
DESCRIPTION:Vous êtes conviés à venir découvrir la nouvelle annexe à la maison médicale de l’Aillantais le lundi 30 juin 2025 à 19h. \n  \n– cabinets de kinésithérapie \n– bassin de balnéothérapie \n– cabinets dentaires \n– salle de réunion \nviennent compléter l’offre de professionnels de santé existante sur le territoire.
URL:https://www.ccaillantais.fr/evenement/inauguration-annexe-maison-medicale/
LOCATION:89110 Aillant-sur-Tholon (MONTHOLON)\, 16 avenue Charles de Gaule - Aillant-sur-Tholon\, MONTHOLON\, 89110\, France
CATEGORIES:CÉRÉMONIE
ATTACH;FMTTYPE=image/jpeg:https://www.ccaillantais.fr/wp-content/uploads/2024/02/MAISON-MEDICALE-scaled.jpg
ORGANIZER;CN="CCAB":MAILTO:contact@ccaillantais.fr
END:VEVENT
BEGIN:VEVENT
DTSTART;TZID=Europe/Paris:20250525T110000
DTEND;TZID=Europe/Paris:20250525T180000
DTSTAMP:20260422T151557
CREATED:20250515T074047Z
LAST-MODIFIED:20250515T074047Z
UID:11541-1748170800-1748196000@www.ccaillantais.fr
SUMMARY:FESTIVAL FLEURS DE VIGNE
DESCRIPTION:Les producteurs locaux de l’Aillantais seront présents sur les quais de l’Yonne à Auxerre le dimanche 25 mai de 11h à 18h pour faire déguster et vous proposer leurs produits du territoire\, dans une ambiance conviviale et chaleureuse. \nVenez nombreux ! \n 
URL:https://www.ccaillantais.fr/evenement/festival-fleurs-de-vigne/
ATTACH;FMTTYPE=image/jpeg:https://www.ccaillantais.fr/wp-content/uploads/2025/05/Fleurs-de-vigne-2025-RS-1080x1080-1.jpg
END:VEVENT
BEGIN:VEVENT
DTSTART;VALUE=DATE:20250304
DTEND;VALUE=DATE:20250305
DTSTAMP:20260422T151557
CREATED:20250211T140516Z
LAST-MODIFIED:20250211T140516Z
UID:11062-1741046400-1741132799@www.ccaillantais.fr
SUMMARY:DÉPISTAGE GRATUIT RÉTINOPATHIE
DESCRIPTION:de 9h30 à 12h30 et de 14h à 17h30
URL:https://www.ccaillantais.fr/evenement/depistage-gratuit-retinopathie/
LOCATION:Salle multi-activités d’Aillant-sur-Tholon
ATTACH;FMTTYPE=image/jpeg:https://www.ccaillantais.fr/wp-content/uploads/2025/02/Affiche-Aillant-sur-tholon-scaled.jpg
END:VEVENT
BEGIN:VEVENT
DTSTART;VALUE=DATE:20250113
DTEND;VALUE=DATE:20250203
DTSTAMP:20260422T151557
CREATED:20250102T140941Z
LAST-MODIFIED:20250102T143215Z
UID:10864-1736726400-1738540799@www.ccaillantais.fr
SUMMARY:DÉFI BONNE RÉSOLUTION
DESCRIPTION:Du 13/01/2025 au 02/02/2025 \nCovoiturez davantage (conducteur ou passager) et tentez de gagner : \n– un smartphone reconditionné d’une valeur de 500€ \n– 2 chèques cadeaux d’une valeur de 30€ à utiliser chez nos commerçants \nInscrivez-vous sur KAROS ! \n  \nPlus d’infos : www.ccaillantais.fr/defi-bonne-resolution ou au 03 86 63 38 58.
URL:https://www.ccaillantais.fr/evenement/defi-bonne-resolution/
CATEGORIES:Mobilité
ATTACH;FMTTYPE=image/png:https://www.ccaillantais.fr/wp-content/uploads/2025/01/défi_bonnes_résolutions_A4_AILLANTAIS.png
ORGANIZER;CN="CCAB":MAILTO:contact@ccaillantais.fr
END:VEVENT
BEGIN:VEVENT
DTSTART;TZID=Europe/Paris:20240115T190000
DTEND;TZID=Europe/Paris:20240115T210000
DTSTAMP:20260422T151557
CREATED:20240102T152148Z
LAST-MODIFIED:20240102T152148Z
UID:9372-1705345200-1705352400@www.ccaillantais.fr
SUMMARY:VOEUX CCAB
DESCRIPTION:à la salle multi-activités – Aillant sur Tholon – MONTHOLON
URL:https://www.ccaillantais.fr/evenement/voeux-ccab-2/
LOCATION:89110 Aillant-sur-Tholon (MONTHOLON)\, 16 avenue Charles de Gaule - Aillant-sur-Tholon\, MONTHOLON\, 89110\, France
ORGANIZER;CN="CCAB":MAILTO:contact@ccaillantais.fr
END:VEVENT
BEGIN:VEVENT
DTSTART;TZID=Europe/Paris:20230116T190000
DTEND;TZID=Europe/Paris:20230116T210000
DTSTAMP:20260422T151557
CREATED:20221212T154443Z
LAST-MODIFIED:20230113T104909Z
UID:7844-1673895600-1673902800@www.ccaillantais.fr
SUMMARY:VŒUX CCAB
DESCRIPTION:
URL:https://www.ccaillantais.fr/evenement/voeux-ccab/
LOCATION:Salle multi-activités d’Aillant-sur-Tholon
ATTACH;FMTTYPE=image/png:https://www.ccaillantais.fr/wp-content/uploads/2022/12/voeuxbornes2.png
ORGANIZER;CN="CCAB":MAILTO:contact@ccaillantais.fr
END:VEVENT
BEGIN:VEVENT
DTSTART;TZID=Europe/Paris:20220409T140000
DTEND;TZID=Europe/Paris:20220409T170000
DTSTAMP:20260422T151557
CREATED:20220331T100400Z
LAST-MODIFIED:20220331T100548Z
UID:5742-1649512800-1649523600@www.ccaillantais.fr
SUMMARY:DONNERIE JARDINAGE
DESCRIPTION:LADUZ – VALRAVILLON \nMédiathèque
URL:https://www.ccaillantais.fr/evenement/donnerie-jardinage/
LOCATION:LADUZ (VALRAVILLON)
ATTACH;FMTTYPE=image/png:https://www.ccaillantais.fr/wp-content/uploads/2022/03/DONNERIE.png
END:VEVENT
BEGIN:VEVENT
DTSTART;TZID=Europe/Paris:20220127T183000
DTEND;TZID=Europe/Paris:20220127T203000
DTSTAMP:20260422T151557
CREATED:20220127T143005Z
LAST-MODIFIED:20220127T143005Z
UID:5490-1643308200-1643315400@www.ccaillantais.fr
SUMMARY:CONSEIL COMMUNAUTAIRE
DESCRIPTION:Les élus se réuniront le jeudi 27 janvier 2022 à 18h30 à la salle multiactivités de Montholon (Aillant-sur-Tholon)
URL:https://www.ccaillantais.fr/evenement/conseil-communautaire-12/
LOCATION:89110 Aillant-sur-Tholon (MONTHOLON)\, 16 avenue Charles de Gaule - Aillant-sur-Tholon\, MONTHOLON\, 89110\, France
CATEGORIES:Information
END:VEVENT
BEGIN:VEVENT
DTSTART;TZID=Europe/Paris:20210526T180000
DTEND;TZID=Europe/Paris:20210526T190000
DTSTAMP:20260422T151557
CREATED:20210517T101830Z
LAST-MODIFIED:20210521T122853Z
UID:4640-1622052000-1622055600@www.ccaillantais.fr
SUMMARY:Réunion
DESCRIPTION:L’Obrigado informe les parents sur le prochain séjour organisé en juillet. RDV rue des Blues à Aillant le 26/05/21 à 18h.
URL:https://www.ccaillantais.fr/evenement/reunion-informations/
LOCATION:89110 Aillant-sur-Tholon (MONTHOLON)\, 16 avenue Charles de Gaule - Aillant-sur-Tholon\, MONTHOLON\, 89110\, France
CATEGORIES:Information
END:VEVENT
BEGIN:VEVENT
DTSTART;TZID=Europe/Paris:20210520T183000
DTEND;TZID=Europe/Paris:20210520T200000
DTSTAMP:20260422T151557
CREATED:20210517T101414Z
LAST-MODIFIED:20210517T101457Z
UID:4636-1621535400-1621540800@www.ccaillantais.fr
SUMMARY:
DESCRIPTION:Les élus se réuniront le 20 mai 2021 à Montholon pour le conseil communautaire
URL:https://www.ccaillantais.fr/evenement/conseil-communautaire-11/
LOCATION:89110 Aillant-sur-Tholon (MONTHOLON)\, 16 avenue Charles de Gaule - Aillant-sur-Tholon\, MONTHOLON\, 89110\, France
CATEGORIES:Conseil Communautaire
ORGANIZER;CN="CCAB":MAILTO:contact@ccaillantais.fr
END:VEVENT
BEGIN:VEVENT
DTSTART;TZID=Europe/Paris:20200907T180000
DTEND;TZID=Europe/Paris:20200907T193000
DTSTAMP:20260422T151557
CREATED:20200709T132039Z
LAST-MODIFIED:20200709T132039Z
UID:3685-1599501600-1599507000@www.ccaillantais.fr
SUMMARY:Inscriptions
DESCRIPTION:Portes ouvertes et inscriptions des nouveaux élèves le 7 septembre 2020 de 18h à 19h30 \nAFFICHE INSCRIPTIONS 2020-2021
URL:https://www.ccaillantais.fr/evenement/inscriptions/
LOCATION:MONTHOLON\, Mairie d'Aillant-sur-Tholon\, MONTHOLON
CATEGORIES:École de Musique
ORGANIZER;CN="CCAB":MAILTO:contact@ccaillantais.fr
END:VEVENT
BEGIN:VEVENT
DTSTART;TZID=Europe/Paris:20200903T180000
DTEND;TZID=Europe/Paris:20200903T193000
DTSTAMP:20260422T151557
CREATED:20200709T132324Z
LAST-MODIFIED:20200709T132415Z
UID:3689-1599156000-1599161400@www.ccaillantais.fr
SUMMARY:Ré-inscriptions
DESCRIPTION:Les ré-inscriptions des anciens élèves auront lieu le jeudi 3 septembre et le vendredi 4 septembre de 18h à 19h30 \nAFFICHE INSCRIPTIONS 2020-2021
URL:https://www.ccaillantais.fr/evenement/re-inscriptions-2/
LOCATION:MONTHOLON\, Mairie d'Aillant-sur-Tholon\, MONTHOLON
CATEGORIES:École de Musique
ORGANIZER;CN="CCAB":MAILTO:contact@ccaillantais.fr
END:VEVENT
BEGIN:VEVENT
DTSTART;TZID=Europe/Paris:20200709T183000
DTEND;TZID=Europe/Paris:20200709T203000
DTSTAMP:20260422T151557
CREATED:20200709T112635Z
LAST-MODIFIED:20200709T112732Z
UID:3682-1594319400-1594326600@www.ccaillantais.fr
SUMMARY:Réunion d'installation
DESCRIPTION:Les élus se réuniront le 9 juillet à 18h30 à la salle polyvalente de Fleury-la-Vallée pour aborder les points suivants : \nApprobation du procès-verbal du 23 avril 2020 ;\n Désignation du secrétaire de séance ;\n INSTALLATION DU CONSEIL COMMUNAUTAIRE SUITE AUX ÉLECTIONS MUNICIPALES ET COMMUNAUTAIRES DES 15 mars et 28 juin 2020\n 1. Élection du Président de la Communauté de Communes de l’Aillantais\n 2. Détermination du nombre de Vice-Président\n 3. Élection des Vice-Présidents\n 4. Désignation de délégués communautaires en charge de dossiers particuliers\n 5. Fixation du montant des indemnités de fonction du président\, des vice-présidents et des délégués communautaires en charge de dossiers particuliers\n 6. Élection des membres du Bureau Communautaire\n 7. Lecture de la charte de l’Élu local\n 8. Création des commissions thématiques intercommunales à titre permanent\n 9. Désignation des membres de la commission d’appel d’offres (CAO)\n 10. Création et désignation des membres de la commission locale d’évaluation des charges transférées (CLECT)\n 11. Création de la commission intercommunale des impôts directs (CIID)\n 12. Désignation des représentants de la Communauté de Communes au sein des organismes extérieurs auxquels la Communauté de Communes adhère\n 13. Délégation de pouvoir du Conseil Communautaire au Président\n 14. Remboursement des frais de déplacement\n ADMINISTRATION GÉNÉRALE\n 15. Relevé des décisions prises par le Président pendant la période de crise sanitaire\n 16. Création d’un emploi fonctionnel de Directeur Générale des Services\n 17. Mise à disposition du personnel technique de la Communauté de Communes de l’Aillantais auprès de la commune de VALRAVILLON\n 18. Modification de la durée de service du poste d’adjoint technique à temps non complet\n FINANCES\n 19. Décision modificative N°1 du budget Principal\n 20. Capitalisation taux CFE\n ÉCOLE DE MUSIQUE\n 21. Convention de mise à disposition de personnels pour l’école de musique de l’Aillantais\n 22. Tarifs de l’école de musique à compter de l’année scolaire 2020/2021\n ENFANCE JEUNESSE\n 23. Vote de l’enveloppe de subventions pour les structures « Enfance Jeunesse »\n COMPLEXE MULTISPORT DE L’AILLANTAIS\n 24. Projet de réhabilitation et d’extension du complexe multisports de l’Aillantais\n AFFAIRES DIVERSES
URL:https://www.ccaillantais.fr/evenement/reunion-dinstallation/
LOCATION:FLEURY-LA-VALLÉE
CATEGORIES:Conseil Communautaire
ORGANIZER;CN="CCAB":MAILTO:contact@ccaillantais.fr
END:VEVENT
BEGIN:VEVENT
DTSTART;TZID=Europe/Paris:20200427T080000
DTEND;TZID=Europe/Paris:20200511T170000
DTSTAMP:20260422T151557
CREATED:20200424T153829Z
LAST-MODIFIED:20200424T153829Z
UID:3630-1587974400-1589216400@www.ccaillantais.fr
SUMMARY:Aides entreprises et indépendants
DESCRIPTION:À partir du 27 avril\, les demandeurs devront remplir un dossier en ligne sur le site de la région www.bourgognefranchecomte.fr. \nPlus d’informations sur le dispositif au 03 80 76 29 38 ou bfc.continuite-eco@direccte.gouv.fr
URL:https://www.ccaillantais.fr/evenement/aides-entreprises-et-independants/
CATEGORIES:Information
END:VEVENT
BEGIN:VEVENT
DTSTART;TZID=Europe/Paris:20200423T170000
DTEND;TZID=Europe/Paris:20200423T190000
DTSTAMP:20260422T151557
CREATED:20200417T092951Z
LAST-MODIFIED:20200417T094629Z
UID:3625-1587661200-1587668400@www.ccaillantais.fr
SUMMARY:CONSEIL COMMUNAUTAIRE
DESCRIPTION:Les élus se réuniront le jeudi 23 avril à 17h00 en visioconférence. \nOrdre du jour :\nApprobation du procès-verbal du 5 mars 2020 ;\nDésignation du secrétaire de séance ;\nADMINISTRATION GÉNÉRALE\n1. Modalités d’organisation à distance des réunions de l’organe délibérant\nAMÉNAGEMENT DU TERRITOIRE\n2. Modification et délimitation du périmètre du droit de préemption urbain (DPU)\n3. Modification des motifs d’exercice du droit de préemption urbain (DPU)\n4. Instauration de déclaration préalable à l’édification des clôtures\nDÉVELOPPEMENT ÉCONOMIQUE\n5. Participation au fonds de solidarité territoriale pour les plus petites entreprises – convention avec la Région Bourgogne Franche Comté\nAFFAIRES DIVERSES
URL:https://www.ccaillantais.fr/evenement/conseil-communautaire-10/
CATEGORIES:Conseil Communautaire
ORGANIZER;CN="CCAB":MAILTO:contact@ccaillantais.fr
END:VEVENT
BEGIN:VEVENT
DTSTART;TZID=Europe/Paris:20200122T080000
DTEND;TZID=Europe/Paris:20200122T170000
DTSTAMP:20260422T151557
CREATED:20200122T130350Z
LAST-MODIFIED:20200122T130350Z
UID:3517-1579680000-1579712400@www.ccaillantais.fr
SUMMARY:Fermeture exceptionnelle
DESCRIPTION:La déchèterie de Guerchy (Valravillon) est exceptionnellement fermée aujourd’hui 22 janvier 2020.
URL:https://www.ccaillantais.fr/evenement/fermeture-exceptionnelle-2/
LOCATION:Déchèterie
CATEGORIES:Information
END:VEVENT
BEGIN:VEVENT
DTSTART;TZID=Europe/Paris:20200120T190000
DTEND;TZID=Europe/Paris:20200120T230000
DTSTAMP:20260422T151557
CREATED:20191230T121856Z
LAST-MODIFIED:20191230T121909Z
UID:3469-1579546800-1579561200@www.ccaillantais.fr
SUMMARY:VOEUX 2020
DESCRIPTION:
URL:https://www.ccaillantais.fr/evenement/voeux-2020/
LOCATION:89110 Aillant-sur-Tholon (MONTHOLON)\, 16 avenue Charles de Gaule - Aillant-sur-Tholon\, MONTHOLON\, 89110\, France
CATEGORIES:CÉRÉMONIE
ORGANIZER;CN="CCAB":MAILTO:contact@ccaillantais.fr
END:VEVENT
BEGIN:VEVENT
DTSTART;TZID=Europe/Paris:20190916T080000
DTEND;TZID=Europe/Paris:20190916T170000
DTSTAMP:20260422T151557
CREATED:20190903T100346Z
LAST-MODIFIED:20190903T100346Z
UID:3348-1568620800-1568653200@www.ccaillantais.fr
SUMMARY:REPRISE DES COURS
DESCRIPTION:
URL:https://www.ccaillantais.fr/evenement/reprise-des-cours-2/
CATEGORIES:École de Musique
ATTACH;FMTTYPE=application/pdf:https://www.ccaillantais.fr/wp-content/uploads/2019/09/AFFICHE-INSCRIPTIONS-2019-2020_v2-2.pdf
END:VEVENT
BEGIN:VEVENT
DTSTART;TZID=Europe/Paris:20190909T180000
DTEND;TZID=Europe/Paris:20190909T193000
DTSTAMP:20260422T151557
CREATED:20190903T095153Z
LAST-MODIFIED:20190903T095153Z
UID:3342-1568052000-1568057400@www.ccaillantais.fr
SUMMARY:PORTES OUVERTES ET INSCRIPTIONS
DESCRIPTION:
URL:https://www.ccaillantais.fr/evenement/portes-ouvertes-et-inscriptions/
LOCATION:89110 Aillant-sur-Tholon (MONTHOLON)\, 16 avenue Charles de Gaule - Aillant-sur-Tholon\, MONTHOLON\, 89110\, France
CATEGORIES:École de Musique
ATTACH;FMTTYPE=application/pdf:https://www.ccaillantais.fr/wp-content/uploads/2019/09/AFFICHE-INSCRIPTIONS-2019-2020_v2.pdf
END:VEVENT
END:VCALENDAR