BEGIN:VCALENDAR
VERSION:2.0
PRODID:-//Site de la communauté de communes de l&#039;Aillantais en Bourgogne - ECPv6.15.11//NONSGML v1.0//EN
CALSCALE:GREGORIAN
METHOD:PUBLISH
X-WR-CALNAME:Site de la communauté de communes de l&#039;Aillantais en Bourgogne
X-ORIGINAL-URL:https://www.ccaillantais.fr
X-WR-CALDESC:Évènements pour Site de la communauté de communes de l&#039;Aillantais en Bourgogne
REFRESH-INTERVAL;VALUE=DURATION:PT1H
X-Robots-Tag:noindex
X-PUBLISHED-TTL:PT1H
BEGIN:VTIMEZONE
TZID:Europe/Paris
BEGIN:DAYLIGHT
TZOFFSETFROM:+0100
TZOFFSETTO:+0200
TZNAME:CEST
DTSTART:20240331T010000
END:DAYLIGHT
BEGIN:STANDARD
TZOFFSETFROM:+0200
TZOFFSETTO:+0100
TZNAME:CET
DTSTART:20241027T010000
END:STANDARD
BEGIN:DAYLIGHT
TZOFFSETFROM:+0100
TZOFFSETTO:+0200
TZNAME:CEST
DTSTART:20250330T010000
END:DAYLIGHT
BEGIN:STANDARD
TZOFFSETFROM:+0200
TZOFFSETTO:+0100
TZNAME:CET
DTSTART:20251026T010000
END:STANDARD
BEGIN:DAYLIGHT
TZOFFSETFROM:+0100
TZOFFSETTO:+0200
TZNAME:CEST
DTSTART:20260329T010000
END:DAYLIGHT
BEGIN:STANDARD
TZOFFSETFROM:+0200
TZOFFSETTO:+0100
TZNAME:CET
DTSTART:20261025T010000
END:STANDARD
END:VTIMEZONE
BEGIN:VEVENT
DTSTART;TZID=Europe/Paris:20250709T183000
DTEND;TZID=Europe/Paris:20250709T193000
DTSTAMP:20260423T042132
CREATED:20250704T093956Z
LAST-MODIFIED:20250704T093956Z
UID:11821-1752085800-1752089400@www.ccaillantais.fr
SUMMARY:RÉUNION PUBLIQUE MUTUELLE INTERCO
DESCRIPTION:Mutuelle\, remboursements santé\, prise en charge… \nPourquoi une mutuelle intercommunale à l’échelle du Contrat Local de Santé ? \nUn intervenant répondra aux questions que vous vous posez à ce sujet\, \nà Aillant-sur-Tholon / MONTHOLON le mardi 8 juillet\, salle multi activités à 18h30 \nà Guerchy / VALRAVILLON le mercredi 9 juillet\, salle de la mairie à 18h30
URL:https://www.ccaillantais.fr/evenement/reunion-publique-mutuelle-interco-2/
LOCATION:GUERCHY (VALRAVILLON)
ATTACH;FMTTYPE=image/jpeg:https://www.ccaillantais.fr/wp-content/uploads/2025/06/maquette_affiche_reunion-publique_mutuelle_page-0001.jpg
END:VEVENT
END:VCALENDAR