BEGIN:VCALENDAR
VERSION:2.0
PRODID:-//Site de la communauté de communes de l&#039;Aillantais en Bourgogne - ECPv6.15.11//NONSGML v1.0//EN
CALSCALE:GREGORIAN
METHOD:PUBLISH
X-WR-CALNAME:Site de la communauté de communes de l&#039;Aillantais en Bourgogne
X-ORIGINAL-URL:https://www.ccaillantais.fr
X-WR-CALDESC:Évènements pour Site de la communauté de communes de l&#039;Aillantais en Bourgogne
REFRESH-INTERVAL;VALUE=DURATION:PT1H
X-Robots-Tag:noindex
X-PUBLISHED-TTL:PT1H
BEGIN:VTIMEZONE
TZID:Europe/Paris
BEGIN:DAYLIGHT
TZOFFSETFROM:+0100
TZOFFSETTO:+0200
TZNAME:CEST
DTSTART:20240331T010000
END:DAYLIGHT
BEGIN:STANDARD
TZOFFSETFROM:+0200
TZOFFSETTO:+0100
TZNAME:CET
DTSTART:20241027T010000
END:STANDARD
BEGIN:DAYLIGHT
TZOFFSETFROM:+0100
TZOFFSETTO:+0200
TZNAME:CEST
DTSTART:20250330T010000
END:DAYLIGHT
BEGIN:STANDARD
TZOFFSETFROM:+0200
TZOFFSETTO:+0100
TZNAME:CET
DTSTART:20251026T010000
END:STANDARD
BEGIN:DAYLIGHT
TZOFFSETFROM:+0100
TZOFFSETTO:+0200
TZNAME:CEST
DTSTART:20260329T010000
END:DAYLIGHT
BEGIN:STANDARD
TZOFFSETFROM:+0200
TZOFFSETTO:+0100
TZNAME:CET
DTSTART:20261025T010000
END:STANDARD
END:VTIMEZONE
BEGIN:VEVENT
DTSTART;TZID=Europe/Paris:20250630T190000
DTEND;TZID=Europe/Paris:20250630T203000
DTSTAMP:20260423T041302
CREATED:20250506T092201Z
LAST-MODIFIED:20250506T092409Z
UID:11495-1751310000-1751315400@www.ccaillantais.fr
SUMMARY:INAUGURATION ANNEXE MAISON MÉDICALE
DESCRIPTION:Vous êtes conviés à venir découvrir la nouvelle annexe à la maison médicale de l’Aillantais le lundi 30 juin 2025 à 19h. \n  \n– cabinets de kinésithérapie \n– bassin de balnéothérapie \n– cabinets dentaires \n– salle de réunion \nviennent compléter l’offre de professionnels de santé existante sur le territoire.
URL:https://www.ccaillantais.fr/evenement/inauguration-annexe-maison-medicale/
LOCATION:89110 Aillant-sur-Tholon (MONTHOLON)\, 16 avenue Charles de Gaule - Aillant-sur-Tholon\, MONTHOLON\, 89110\, France
CATEGORIES:CÉRÉMONIE
ATTACH;FMTTYPE=image/jpeg:https://www.ccaillantais.fr/wp-content/uploads/2024/02/MAISON-MEDICALE-scaled.jpg
ORGANIZER;CN="CCAB":MAILTO:contact@ccaillantais.fr
END:VEVENT
END:VCALENDAR